BEGIN:VCALENDAR
VERSION:2.0
PRODID:-//wp-events-plugin.com//6.6.5//EN
TZID:Europe/London
X-WR-TIMEZONE:Europe/London
BEGIN:VEVENT
UID:243184@slaauk.org
DTSTART;TZID=Europe/London:20260502T103000
DTEND;TZID=Europe/London:20260502T113000
DTSTAMP:20260101T191952Z
URL:https://slaauk.org/events/10-30am-saturday-love-and-service-12x12-meet
 ing-2026-05-02/
SUMMARY:10.30am Saturday 'Love and Service' 12x12 Meeting
DESCRIPTION:Categories: 	\n					12 step meeting\n					12 Steps\n					12 Tra
 ditions\n					Open to All\n			\n	 Saturdays 10.30-11.30am\nChurch Hall Ent
 rance on Roman Road.\n\nWeekly 12 Steps and 12 Traditions meeting with a r
 eading\, chair and sharing. Followed by fellowship.\n\nWelcoming people of
  any gender\, sexuality\, race and background who have a desire to stop li
 ving out a pattern of sex and love addiction.\n\nFor more information cont
 act\ndomslaauk@gmail.com\nalexslaa2020@gmail.com  
ATTACH;FMTTYPE=image/jpeg:https://slaauk.org/wp-content/uploads/2024/03/Lo
 ve-and-Service-Meeting.jpg
CATEGORIES:12 step meeting,12 Steps,12 Traditions,Open to All
LOCATION:200 Cambridge Heath Road\, London\, E2 9PA 
X-APPLE-STRUCTURED-LOCATION;VALUE=URI;X-ADDRESS=200 Cambridge Heath Road\, 
 London\, E2 9PA\, London\, United Kingdom;X-APPLE-RADIUS=100;X-TITLE=St Jo
 hn's Bethnal Green - Church Hall:geo:0,0
END:VEVENT
BEGIN:VTIMEZONE
TZID:Europe/London
X-LIC-LOCATION:Europe/London
BEGIN:DAYLIGHT
DTSTART:20260329T020000
TZOFFSETFROM:+0000
TZOFFSETTO:+0100
TZNAME:BST
END:DAYLIGHT
END:VTIMEZONE
END:VCALENDAR