BEGIN:VCALENDAR
VERSION:2.0
PRODID:-//wp-events-plugin.com//6.6.5//EN
TZID:Europe/London
X-WR-TIMEZONE:Europe/London
BEGIN:VEVENT
UID:243609@slaauk.org
DTSTART;TZID=Europe/London:20260628T181500
DTEND;TZID=Europe/London:20260628T193000
DTSTAMP:20260101T193729Z
URL:https://slaauk.org/events/6-15pm-brixton-slaa-how-sunday-evening-in-pe
 rson-meeting-2026-06-28/
SUMMARY:6.15pm Brixton SLAA HOW Sunday Evening In-person Meeting
DESCRIPTION:Categories: 	\n					12 step meeting\n					Anorexia\n					Chair\
 n					HOW Format\n					LGBT+ friendly\n					Topic\n			\n	 \n\n6.15–7.30p
 m Brixton SLAA HOW Sunday Evening Face-to-Face Meeting\n\nLocation: Edmund
 sbury Community Hall\, Brixton\, 171 Ferndale Road\, London\, SW9 8FQ\, Lo
 ndon\, England.\n\nWhen coming to the meeting for the first time\, navigat
 e to Ferndale Road\, Duke of Edinburgh pub.\nAcross the road from the pub\
 , enter the Edmundsbury estate through the right-hand black gate and walk 
 across the estate. The community hall is the brown brick building\, direct
 ly opposite\, in the right-hand corner.\n\nAll genders and sexualities wel
 come.\nDonations: via PayPal or cash\n\nFormat:\n1st Sunday of the month: 
 Experience Strength and Hope Chair\n2nd Sunday of the month: Anorexia Focu
 s\n3rd Sunday of the month: Characteristics\n4th Sunday of the month: SLAA
  Handbook Reading\n5th Sunday of the month: Topic Sharing\n\n  
CATEGORIES:12 step meeting,Anorexia,Chair,HOW Format,LGBT+ friendly,Topic
LOCATION:171 Ferndale Road\, Brixton\, SW9 8FQ 
GEO:51.462096;-0.118941
X-APPLE-STRUCTURED-LOCATION;VALUE=URI;X-ADDRESS=171 Ferndale Road\, Brixton
 \, London\, SW9 8FQ\, United Kingdom;X-APPLE-RADIUS=100;X-TITLE=Edmunsbury
  Community Hall:geo:51.462096,-0.118941
END:VEVENT
BEGIN:VTIMEZONE
TZID:Europe/London
X-LIC-LOCATION:Europe/London
BEGIN:DAYLIGHT
DTSTART:20260329T020000
TZOFFSETFROM:+0000
TZOFFSETTO:+0100
TZNAME:BST
END:DAYLIGHT
END:VTIMEZONE
END:VCALENDAR