BEGIN:VCALENDAR
VERSION:2.0
PRODID:-//wp-events-plugin.com//6.6.5//EN
TZID:Europe/London
X-WR-TIMEZONE:Europe/London
BEGIN:VEVENT
UID:241623@slaauk.org
DTSTART;TZID=Europe/London:20261206T180000
DTEND;TZID=Europe/London:20261206T193000
DTSTAMP:20260101T183724Z
URL:https://slaauk.org/events/6pm-sunday-slaa-southend-2026-12-06/
SUMMARY:6pm Sunday SLAA Southend
DESCRIPTION:Categories: 	\n					12 step meeting\n					Closed Meeting *\n			
 		Mixed\n			\n	 There is tea and coffee available and time for fellowship.
 \nNewcomers are welcome to contact the meeting's secretary on 07561839032 
 if they would like to ask any questions before attending.  
CATEGORIES:12 step meeting,Closed Meeting *,Mixed
LOCATION:\, \,  
X-APPLE-STRUCTURED-LOCATION;VALUE=URI;X-ADDRESS=\, ;X-APPLE-RADIUS=100;X-TI
 TLE=:geo:0,0
END:VEVENT
BEGIN:VTIMEZONE
TZID:Europe/London
X-LIC-LOCATION:Europe/London
BEGIN:STANDARD
DTSTART:20261025T010000
TZOFFSETFROM:+0100
TZOFFSETTO:+0000
TZNAME:GMT
END:STANDARD
END:VTIMEZONE
END:VCALENDAR