BEGIN:VCALENDAR
VERSION:2.0
PRODID:-//wp-events-plugin.com//6.6.5//EN
TZID:Europe/London
X-WR-TIMEZONE:Europe/London
BEGIN:VEVENT
UID:239562@slaauk.org
DTSTART;TZID=Europe/London:20260524T093000
DTEND;TZID=Europe/London:20260524T103000
DTSTAMP:20260101T170744Z
URL:https://slaauk.org/events/930am-sunday-southgate-slaa-meeting-2026-05-
 24/
SUMMARY:9:30am Sunday Southgate Priory SLAA meeting now Face to Face
DESCRIPTION:Categories: 	\n					12 step meeting\n					12 Steps\n					Anorex
 ia\n					Chair\n					Towards Healthy Love and Relationships\n			\n	 9:30am
  Sunday Southgate Priory SLAA meeting is Face to Face (from September 4th 
 2022)\n\nTube: Southgate\n\n[hide]9:30am Sunday Southgate Priory SLAA meet
 ing is online on zoom until the end of August 2022 - clickable link Zoom 
 ID 854 986 8693 with password 190444[/hide]\nWeekly Topics alternate betwe
 en Steps\, Healthy Relationships\, Anorexia Focus\, and a Chair  
CATEGORIES:12 step meeting,12 Steps,Anorexia,Chair,Towards Healthy Love
 and Relationships
LOCATION:Grovelands House\, The Bourne\, Southgate\, N14 6RA 
GEO:51.6298182;-0.12055929999996806
X-APPLE-STRUCTURED-LOCATION;VALUE=URI;X-ADDRESS=Grovelands House\, The Bour
 ne\, Southgate\, London\, N14 6RA\, London\, United Kingdom;X-APPLE-RADIUS
 =100;X-TITLE=The Priory Hospital North London:geo:51.6298182,-0.1205592999
 9996806
END:VEVENT
BEGIN:VTIMEZONE
TZID:Europe/London
X-LIC-LOCATION:Europe/London
BEGIN:DAYLIGHT
DTSTART:20260329T020000
TZOFFSETFROM:+0000
TZOFFSETTO:+0100
TZNAME:BST
END:DAYLIGHT
END:VTIMEZONE
END:VCALENDAR