BEGIN:VCALENDAR
VERSION:2.0
PRODID:-//wp-events-plugin.com//6.6.5//EN
TZID:Europe/London
X-WR-TIMEZONE:Europe/London
BEGIN:VEVENT
UID:243760@slaauk.org
DTSTART;TZID=Europe/London:20260513T190000
DTEND;TZID=Europe/London:20260513T200000
DTSTAMP:20260101T194440Z
URL:https://slaauk.org/events/berlin-wednesday-7pm-english-speaking-mens-s
 laa-meeting-zoom-2026-05-13/
SUMMARY:Berlin Wednesday 7pm English Speaking Men’s SLAA Meeting (Zoom)
DESCRIPTION:Categories: 	\n					12 step meeting\n					European English Spea
 king Meetings\n			\n	 \nThe online meeting (men’s only) is on Wednesdays
  7-8 pm CET on zoom which has the following details:\n\n\n\nWednesdays 190
 0 MEZ/CET:\n\nmeeting link: https://us02web.zoom.us/j/5575848580?pwd=K2Rs
 SmxoT0hTZWNtQ2VyWSttNGY4dz09\n\nMeeting ID = 557 584 8580\n\nPw = ee8C8N\n
 \n\n  
CATEGORIES:12 step meeting,European English Speaking Meetings
LOCATION:Zoom\, Berlin Zoom\,  
X-APPLE-STRUCTURED-LOCATION;VALUE=URI;X-ADDRESS=Zoom\, Berlin Zoom\, Europe
 \, Germany;X-APPLE-RADIUS=100;X-TITLE=Berlin-Zoom:geo:0,0
END:VEVENT
BEGIN:VTIMEZONE
TZID:Europe/London
X-LIC-LOCATION:Europe/London
BEGIN:DAYLIGHT
DTSTART:20260329T020000
TZOFFSETFROM:+0000
TZOFFSETTO:+0100
TZNAME:BST
END:DAYLIGHT
END:VTIMEZONE
END:VCALENDAR