BEGIN:VCALENDAR
VERSION:2.0
PRODID:-//wp-events-plugin.com//6.6.5//EN
TZID:Europe/London
X-WR-TIMEZONE:Europe/London
BEGIN:VEVENT
UID:242388@slaauk.org
DTSTART;TZID=Europe/London:20260428T190000
DTEND;TZID=Europe/London:20260428T200000
DTSTAMP:20260101T185934Z
URL:https://slaauk.org/events/bethnal-green-tuesday-7pm-there-is-a-solutio
 n-2026-04-28/
SUMMARY:Bethnal Green Tuesday 7pm - There Is A Solution
DESCRIPTION:Categories: 	\n					12 step meeting\n					Basic Text Study\n			
 		Chair\n					Closed Meeting *\n					HOW Format\n					Mixed\n			\n	 Open t
 o people of any gender\, sexuality\, race and background who have a desire
  to stop living out a pattern of sex and love addiction.\n\nDirectly oppos
 ite Bethnal Green Overground station or a 7 min walk from Bethnal Green Un
 derground (Central line).  
CATEGORIES:12 step meeting,Basic Text Study,Chair,Closed Meeting *,HOW
 Format,Mixed
LOCATION:17 Three Colts Lane\, Bethnal Green\, E2 6JL 
X-APPLE-STRUCTURED-LOCATION;VALUE=URI;X-ADDRESS=17 Three Colts Lane\, Bethn
 al Green\, London\, E2 6JL\, London\, United Kingdom;X-APPLE-RADIUS=100;X-
 TITLE=The Good Shepherd Mission:geo:0,0
END:VEVENT
BEGIN:VTIMEZONE
TZID:Europe/London
X-LIC-LOCATION:Europe/London
BEGIN:DAYLIGHT
DTSTART:20260329T020000
TZOFFSETFROM:+0000
TZOFFSETTO:+0100
TZNAME:BST
END:DAYLIGHT
END:VTIMEZONE
END:VCALENDAR