BEGIN:VCALENDAR
VERSION:2.0
PRODID:-//wp-events-plugin.com//6.6.5//EN
TZID:Europe/London
X-WR-TIMEZONE:Europe/London
BEGIN:VEVENT
UID:242329@slaauk.org
DTSTART;TZID=Europe/London:20260604T190000
DTEND;TZID=Europe/London:20260604T203000
DTSTAMP:20260101T185655Z
URL:https://slaauk.org/events/didsbury-thursday-7pm-face-to-face-2026-06-0
 4/
SUMMARY:Didsbury Thursday 7pm Face to Face
DESCRIPTION:Categories: 	\n					12 step meeting\n					Anorexia\n					Basic 
 Text Study\n					Chair\n					Getting current\n					LGBT+ friendly\n					Me
 ditation\n					Mixed\n					Open to All\n					Over 18\n					Reading\n					T
 ransfriendly\n					Varied Format\n			\n	 Open Every Thursday at 7pm to 8:3
 0pm.\n\nThis is an inclusive face to face meeting free to all who need it\
 , the only restriction is that you must be over 18 years to attend.\n\n6 B
 arlow Moor Road\, Didsbury\, Manchester M20 6TR. (The large Victorian hous
 e next to the Emmanuel Church… you’ll see the sign on the door). There
  is a free car park round the back for anyone attending the meeting.\n\nTe
 a and coffee is provided.\n\nWe have a mixed format which follows the belo
 w weekly structure.\n1st Thursday of the month. Step meeting\, focusing on
  a reading from the SLAA basic text for the step correlating to that month
 .\n2nd Thursday of the month. Meditation meeting\, meditating for 10 minut
 es on a reading from the State of Grace book and then sharing on what come
 s up in the meditation.\n3rd Thursday of the month. Tradition meeting\, fo
 cusing on a reading from the AA 12&amp\;12 for the tradition correlating t
 o that month.\n4th Thursday of the month. Anorexia meeting\, focusing on a
  reading from our collection of anorexia literature.\n5th Thursday of the 
 month. Chair meeting\, a guest speaker will share their experience of reco
 very through the SLAA program of recovery\, and share a message of strengt
 h and hope.  
ATTACH;FMTTYPE=image/jpeg:https://slaauk.org/wp-content/uploads/2023/09/IM
 G_4117.jpeg
CATEGORIES:12 step meeting,Anorexia,Basic Text Study,Chair,Getting
 current,LGBT+ friendly,Meditation,Mixed,Open to All,Over
 18,Reading,Transfriendly,Varied Format
LOCATION:Parish Centre\,  6 Barlow Moor Road\, Didsbury\, M20 6TR 
GEO:53.41834;-2.233089
X-APPLE-STRUCTURED-LOCATION;VALUE=URI;X-ADDRESS=Parish Centre\,  6 Barlow M
 oor Road\, Didsbury\, Manchester\, M20 6TR\, Northern England\, United Kin
 gdom;X-APPLE-RADIUS=100;X-TITLE=Emmanuel Church Didsbury:geo:53.41834,-2.2
 33089
END:VEVENT
BEGIN:VTIMEZONE
TZID:Europe/London
X-LIC-LOCATION:Europe/London
BEGIN:DAYLIGHT
DTSTART:20260329T020000
TZOFFSETFROM:+0000
TZOFFSETTO:+0100
TZNAME:BST
END:DAYLIGHT
END:VTIMEZONE
END:VCALENDAR