BEGIN:VCALENDAR
VERSION:2.0
PRODID:-//wp-events-plugin.com//6.6.5//EN
TZID:Europe/London
X-WR-TIMEZONE:Europe/London
BEGIN:VEVENT
UID:226398@slaauk.org
DTSTART;TZID=Europe/London:20270130T124500
DTEND;TZID=Europe/London:20270130T164500
DTSTAMP:20260403T113740Z
URL:https://slaauk.org/events/intergroup-meeting-saturday-1245pm-london-an
 d-on-zoom-hybrid-2027-01-30/
SUMMARY:Intergroup Meeting Saturday 30th January 2027 12:45PM London and on
  Zoom (Hybrid)
DESCRIPTION:Categories: 	\n					Intergroup\n			\n	 The intergroup meetings 
 are quarterly\, currently happening on the last Saturday of October\, Janu
 ary\, April\, July etc.\n\nfrom 12:45 pm to 4:45 pm in The Studio\, Eastsi
 de\, Hope House\, 37 Hackney Rd\, London E2 7NX\n\nThis hybrid meeting is 
 in London and online on Zoom:\n\nJoin Zoom Meeting\nMeeting ID: 956 6380 2
 115\n\nFellowship afterwards at nearby restaurant (tbc)\n\nList of Service
  Positions and availability at intergroup  
CATEGORIES:Intergroup
LOCATION:Unit 16 E\, Hope House\, 37 Hackney Road\, Hackney\, E2 7NX 
X-APPLE-STRUCTURED-LOCATION;VALUE=URI;X-ADDRESS=Unit 16 E\, Hope House\, 37
  Hackney Road\, Hackney\, London \, E2 7NX\, London\, United Kingdom;X-APP
 LE-RADIUS=100;X-TITLE=The Studio\, Eastside:geo:0,0
END:VEVENT
BEGIN:VTIMEZONE
TZID:Europe/London
X-LIC-LOCATION:Europe/London
BEGIN:STANDARD
DTSTART:20261025T010000
TZOFFSETFROM:+0100
TZOFFSETTO:+0000
TZNAME:GMT
END:STANDARD
END:VTIMEZONE
END:VCALENDAR