BEGIN:VCALENDAR
VERSION:2.0
PRODID:-//wp-events-plugin.com//6.6.5//EN
TZID:Europe/London
X-WR-TIMEZONE:Europe/London
BEGIN:VEVENT
UID:240632@slaauk.org
DTSTART;TZID=Europe/London:20261206T110000
DTEND;TZID=Europe/London:20261206T120000
DTSTAMP:20260201T002311Z
URL:https://slaauk.org/events/leeds-sunday-11am-teams-meeting-2026-12-06/
SUMMARY:Leeds Sunday 11am Teams Video Meeting
DESCRIPTION:Categories: 	\n					12 step meeting\n					Closed Meeting *\n			
 		Mixed\n					Skype 12 step meeting\n					Zoom 12 Step Meeting\n			\n	 Mic
 rosoft Teams meeting Sundays 11:00-12:00\n\n1st Sunday of the month: Trad
 itions Meeting\n2nd Sunday of the month: Step Meeting\n3rd Sunday of the m
 onth: Anorexia Meeting\n4th Sunday of the Month: Big Book Meeting\n5th Sun
 day of the Month: Guest Speaker or Workshop or Mediation Meeting\n\nThe me
 eting will be started shortly before 11am\, after which you can use the 'J
 oin Call' button on Skype to enter the meeting . Use this Skype link to be
  taken to the meeting. Alternatively\, you can use the following email con
 tact to find out more information: leedsslaa@gmail.com\n\nThis is an audi
 o and video on meeting.  
CATEGORIES:12 step meeting,Closed Meeting *,Mixed,Skype 12 step
 meeting,Zoom 12 Step Meeting
LOCATION:Virtual Road\, Leeds\, LS1 1AZ 
X-APPLE-STRUCTURED-LOCATION;VALUE=URI;X-ADDRESS=Virtual Road\, Leeds\, LS1 
 1AZ\, Northern England\, United Kingdom;X-APPLE-RADIUS=100;X-TITLE=Leeds V
 irtual:geo:0,0
END:VEVENT
BEGIN:VTIMEZONE
TZID:Europe/London
X-LIC-LOCATION:Europe/London
BEGIN:STANDARD
DTSTART:20261025T010000
TZOFFSETFROM:+0100
TZOFFSETTO:+0000
TZNAME:GMT
END:STANDARD
END:VTIMEZONE
END:VCALENDAR