BEGIN:VCALENDAR
VERSION:2.0
PRODID:-//wp-events-plugin.com//6.6.5//EN
TZID:Europe/London
X-WR-TIMEZONE:Europe/London
BEGIN:VEVENT
UID:250845@slaauk.org
DTSTART;TZID=Europe/London:20260523T133000
DTEND;TZID=Europe/London:20260523T183000
DTSTAMP:20260326T182216Z
URL:https://slaauk.org/events/manchester-unity-day-23rd-may-2026/
SUMMARY:Manchester Unity Day 23rd May 2026
DESCRIPTION:Categories: 	\n					12 Step Day Event\n					12 step meeting\n		
 	\n	 SLAA Unity Day - Saturday 23rd May 2026\n\nJoin us for a special day 
 of connection\, recovery\, and fellowship at our SLAA Unity Day - a welcom
 ing opportunity to come together in unity\, share experience\, strength an
 d hope\, and deepen our recovery alongside others in the fellowship.\n\nTh
 e day will include a variety of meetings\, workshops\, spiritual reflectio
 n\, step focused recovery talks\, and guest speakers\, offering something 
 meaningful for everyone whether you are new to SLAA or have been in recove
 ry for many years.\n\nArrival from 1:30pm. Throughout the afternoon there 
 will be regular breaks with tea\, coffee\, and snacks available\, giving p
 lenty of time to connect and meet others.\n\nWe invite you to bring food t
 o share\, and from 6:30pm onwards we will enjoy fun\, fellowship\, and a s
 hared meal together\, a chance to relax\, laugh\, and strengthen our commu
 nity.\n\nVenue:\nUnion Chapel\nWellington Road\nFallowfield\nManchester\nM
 14 6EQ\n\nParking: Street parking is available nearby.\n\nLiterature: SLAA
  literature will be available to purchase on the day at the same prices as
  listed on the website.\n\nTickets: £5 Unity Day ticket - available on th
 e door.\nPayment methods accepted: Cash\, PayPal\, or bank transfer.\n\nWe
  look forward to sharing this special day with you.\n\n\n\nDownload Unity 
 Day Poster  Lots of buses down Oxford/Wilmslow Road\n\nFree parking availa
 ble
CATEGORIES:12 Step Day Event,12 step meeting
LOCATION:2 Wellington Road\, Fallowfield\, M14 6EQ 
X-APPLE-STRUCTURED-LOCATION;VALUE=URI;X-ADDRESS=2 Wellington Road\, Fallowf
 ield\, Greater Manchester\, M14 6EQ\, Northern England\, United Kingdom;X-
 APPLE-RADIUS=100;X-TITLE=Union Chapel Baptist Church:geo:0,0
END:VEVENT
BEGIN:VTIMEZONE
TZID:Europe/London
X-LIC-LOCATION:Europe/London
BEGIN:DAYLIGHT
DTSTART:20260329T020000
TZOFFSETFROM:+0000
TZOFFSETTO:+0100
TZNAME:BST
END:DAYLIGHT
END:VTIMEZONE
END:VCALENDAR