BEGIN:VCALENDAR
VERSION:2.0
PRODID:-//wp-events-plugin.com//6.6.5//EN
TZID:Europe/London
X-WR-TIMEZONE:Europe/London
BEGIN:VEVENT
UID:240973@slaauk.org
DTSTART;TZID=Europe/London:20260629T180000
DTEND;TZID=Europe/London:20260629T190000
DTSTAMP:20260101T182252Z
URL:https://slaauk.org/events/monday-6pm-glasgow-12step-scotland-inhouse-2
 026-06-29/
SUMMARY:Whiteinch Glasgow SLAA Monday 6:00pm - 7:00pm
DESCRIPTION:Categories: 	\n					12 step meeting\n					12 Steps\n					Step F
 ocus\n					Topic\n			\n	 This is a face to face Step/Topic meeting.\nThe m
 eeting will run from 6:00pm - 7:00pm.\nTea\, Coffee &amp\; Fellowship from
  5:45pm.\nFree parking nearby and on Dumbarton Road.\nAll welcome.\n\nIf y
 ou have any questions or would like more information about the meeting ple
 ase email slaaglasgow@gmail.com  https://goo.gl/maps/s3XsStqN3ccb44Rq9
CATEGORIES:12 step meeting,12 Steps,Step Focus,Topic
LOCATION:1 Northinch St\, Glasgow \, G14 0UG 
X-APPLE-STRUCTURED-LOCATION;VALUE=URI;X-ADDRESS=1 Northinch St\, Glasgow \,
  G14 0UG\, Scotland\, United Kingdom;X-APPLE-RADIUS=100;X-TITLE=Whiteinch 
 Community Centre:geo:0,0
END:VEVENT
BEGIN:VTIMEZONE
TZID:Europe/London
X-LIC-LOCATION:Europe/London
BEGIN:DAYLIGHT
DTSTART:20260329T020000
TZOFFSETFROM:+0000
TZOFFSETTO:+0100
TZNAME:BST
END:DAYLIGHT
END:VTIMEZONE
END:VCALENDAR