BEGIN:VCALENDAR
VERSION:2.0
PRODID:-//wp-events-plugin.com//6.6.5//EN
TZID:Europe/London
X-WR-TIMEZONE:Europe/London
BEGIN:VEVENT
UID:241779@slaauk.org
DTSTART;TZID=Europe/London:20261207T190000
DTEND;TZID=Europe/London:20261207T200000
DTSTAMP:20260101T184059Z
URL:https://slaauk.org/events/monday-slaa-how-womens-monday-night-special-
 online-meeting-zoom-2-2026-12-07/
SUMMARY:Monday 7pm UK time SLAA HOW Women’s Monday Night Special Online M
 eeting (Zoom)
DESCRIPTION:Categories: 	\n					12 step meeting\n					HOW Format\n					Wome
 n Only\n					Zoom 12 Step Meeting\n			\n	 Every Monday evening UK time 7pm
 -8pm UK time\n\nThis is a women only\, trans-woman friendly meeting and as
  such is only suitable for people who identify as women. We kindly ask you
  to be respectful of the intentions of our group.\n\nJoin Zoom Meeting\n\n
 https://us02web.zoom.us/j/84537555272?pwd=akdaalFZclJrZStxL3hrLzBHc1M5UT09
 \n\nMeeting ID: 845 3755 5272\n\nPasscode: powerless\n\nMeeting contact: o
 nedayatatimeslaa@gmail.com  
CATEGORIES:12 step meeting,HOW Format,Women Only,Zoom 12 Step Meeting
END:VEVENT
BEGIN:VTIMEZONE
TZID:Europe/London
X-LIC-LOCATION:Europe/London
BEGIN:STANDARD
DTSTART:20261025T010000
TZOFFSETFROM:+0100
TZOFFSETTO:+0000
TZNAME:GMT
END:STANDARD
END:VTIMEZONE
END:VCALENDAR