BEGIN:VCALENDAR
VERSION:2.0
PRODID:-//wp-events-plugin.com//6.6.5//EN
TZID:Europe/London
X-WR-TIMEZONE:Europe/London
BEGIN:VEVENT
UID:242371@slaauk.org
DTSTART;TZID=Europe/London:20261205T190000
DTEND;TZID=Europe/London:20261205T201500
DTSTAMP:20260101T185834Z
URL:https://slaauk.org/events/monthly-saturday-7pm-uk-time-slaa-big-book-s
 tudy-group-workshop-study-2026-12-05/
SUMMARY:Monthly Saturday 7pm UK Time SLAA Big Book Study Group Workshop
DESCRIPTION:Categories: 	\n					12 step meeting\n					Big Book Study Meetin
 g\n					Chair\n					Mixed\n					Zoom 12 Step Meeting\n			\n	 SLAA Big Book
  Study Group' Workshop\nFirst Saturday of the month 7pm – 8:15pm (UK Tim
 e) – Zoom meeting\n\nMeeting ID: 824 6580 9416\nPassword: 081560\nLink:
  https://bit.ly/slaabigbookzoom\nWorkshop opens at 6.45pm\,\n[hide]The wo
 rkshop will be locked at 7.15pm.[/hide]\n[hide]A monthly Big Book workshop
 \, comprising of two speakers sharing their experience\, strength and hope
  on the chosen topic as sex and love addicts. The workshop is then opened 
 up for shares and questions.\nOpen to all who have a desire to stop living
  out a pattern of sex and love addiction\n[/hide]An interactive monthly wo
 rkshop\, based around a theme of recovery from sex and love addiction usin
 g the Big Book.\nAny questions? Please contact Sam on slaasam164@gmail.com
   
CATEGORIES:12 step meeting,Big Book Study Meeting,Chair,Mixed,Zoom 12 Step
 Meeting
END:VEVENT
BEGIN:VTIMEZONE
TZID:Europe/London
X-LIC-LOCATION:Europe/London
BEGIN:STANDARD
DTSTART:20261025T010000
TZOFFSETFROM:+0100
TZOFFSETTO:+0000
TZNAME:GMT
END:STANDARD
END:VTIMEZONE
END:VCALENDAR