BEGIN:VCALENDAR
VERSION:2.0
PRODID:-//wp-events-plugin.com//6.6.5//EN
TZID:Europe/London
X-WR-TIMEZONE:Europe/London
BEGIN:VEVENT
UID:243162@slaauk.org
DTSTART;TZID=Europe/London:20261128T091500
DTEND;TZID=Europe/London:20261129T103000
DTSTAMP:20260101T191827Z
URL:https://slaauk.org/events/salisbury-saturday-slaa-on-line-meeting-2026
 -11-28/
SUMMARY:Salisbury Saturday SLAA on-line meeting
DESCRIPTION:Categories: 	\n					12 Steps\n					Anorexia\n					Bottom Lines\
 n					Top Lines\n					Varied Format\n					Zoom 12 Step Meeting\n			\n	 Sal
 isbury SLAA Zoom Meeting\nWhen: Saturday\, 9:15 - 10:30 AM\n\nJoin the mee
 ting:\n\nhttps://us05web.zoom.us/j/6637667873?pwd=lUZDNW5Pn4BwPYYvLze8WkCT
 eGjbqb.1&amp\;omn=81555787657\n\n&nbsp\;\n\nMeeting ID: 6637667873\nPasswo
 rd: SaturdayAM\n\nMonthly Focus:\nWeek 1: Step of the Month\nWeek 2: Relat
 ionship Focus\nWeek 3: Anorexia\nWeek 4: Share\nWeek 5: Top/Bottom Lines  
CATEGORIES:12 Steps,Anorexia,Bottom Lines,Top Lines,Varied Format,Zoom 12
 Step Meeting
LOCATION:Zoom\, Sailsbury\,  
X-APPLE-STRUCTURED-LOCATION;VALUE=URI;X-ADDRESS=Zoom\, Sailsbury\, South We
 st England\, United Kingdom;X-APPLE-RADIUS=100;X-TITLE=Salisbury:geo:0,0
END:VEVENT
BEGIN:VTIMEZONE
TZID:Europe/London
X-LIC-LOCATION:Europe/London
BEGIN:STANDARD
DTSTART:20261025T010000
TZOFFSETFROM:+0100
TZOFFSETTO:+0000
TZNAME:GMT
END:STANDARD
END:VTIMEZONE
END:VCALENDAR