BEGIN:VCALENDAR
VERSION:2.0
PRODID:-//wp-events-plugin.com//6.6.5//EN
TZID:Europe/London
X-WR-TIMEZONE:Europe/London
BEGIN:VEVENT
UID:240060@slaauk.org
DTSTART;TZID=Europe/London:20261205T100000
DTEND;TZID=Europe/London:20261205T113000
DTSTAMP:20260101T175519Z
URL:https://slaauk.org/events/saturday-10am-uk-time-mens-recovery-workshop
 -2026-12-05/
SUMMARY:Saturday 10am UK time Mens Recovery Workshop
DESCRIPTION:Categories: 	\n					12 step meeting\n					Meditation\n					Men 
 Only\n					Top Lines\n					Zoom 12 Step Meeting\n			\n	 HowzerMan is invit
 ing you to the Sat 10am Uk Mens Recovery Workshop.\nWe discuss a chosen to
 pic\, share\, move\, meditate\, Sloga it\, as a topline healing practice. 
 Sloga is a specialised yoga form with recovery in mind. This is an instruc
 tor led workshop ideally suited for those actively pursuing recovery. Plea
 se wear loose comfortable clothing\, some floor space to move &amp\; water
  handy. No specific fitness level required.\nJoin Zoom Meeting\nMeeting ID
 : 846 7661 3249\nPasscode: 695204\nWebcams must be on at all times. sign i
 n to zoom to attend\, donation based.\nEmail: howzerman@outlook.com  
CATEGORIES:12 step meeting,Meditation,Men Only,Top Lines,Zoom 12 Step
 Meeting
END:VEVENT
BEGIN:VTIMEZONE
TZID:Europe/London
X-LIC-LOCATION:Europe/London
BEGIN:STANDARD
DTSTART:20261025T010000
TZOFFSETFROM:+0100
TZOFFSETTO:+0000
TZNAME:GMT
END:STANDARD
END:VTIMEZONE
END:VCALENDAR