BEGIN:VCALENDAR
VERSION:2.0
PRODID:-//wp-events-plugin.com//6.6.5//EN
TZID:Europe/London
X-WR-TIMEZONE:Europe/London
BEGIN:VEVENT
UID:251782@slaauk.org
DTSTART;TZID=Europe/London:20260502T190000
DTEND;TZID=Europe/London:20260502T200000
DTSTAMP:20260406T233736Z
URL:https://slaauk.org/events/saturday-serenity-hope-faith-and-courage-7pm
 -2026-05-02/
SUMMARY:Saturday Serenity\, Hope\, Faith and Courage. 7pm
DESCRIPTION:Categories: 	\n					12 step meeting\n					12 Steps\n					Candle
 it\n					Classic shares\n					Mixed\n					No Children\n					Over 18\n					
 Varied Format\n					Wheelchair accessible\n			\n	 Doors open at 6.30pm\nMe
 eting from 7-8pm\nVaried format: Step readings. Discussions. Share backs. 
 Speaker.\n\nNo meeting on 18th April\, 4th July &amp\; 29th August 2026\n\
 nContact: slaasaturdaymeeting@gmail.com  
CATEGORIES:12 step meeting,12 Steps,Candleit,Classic shares,Mixed,No
 Children,Over 18,Varied Format,Wheelchair accessible
LOCATION:Langham Hall\, Langham Cres \, Billericay\, CM12 9RD 
X-APPLE-STRUCTURED-LOCATION;VALUE=URI;X-ADDRESS=Langham Hall\, Langham Cres
  \, Billericay\, Essex\, CM12 9RD\, East England\, United Kingdom;X-APPLE-
 RADIUS=100;X-TITLE=Langham Hall Community Centre:geo:0,0
END:VEVENT
BEGIN:VTIMEZONE
TZID:Europe/London
X-LIC-LOCATION:Europe/London
BEGIN:DAYLIGHT
DTSTART:20260329T020000
TZOFFSETFROM:+0000
TZOFFSETTO:+0100
TZNAME:BST
END:DAYLIGHT
END:VTIMEZONE
END:VCALENDAR