BEGIN:VCALENDAR
VERSION:2.0
PRODID:-//wp-events-plugin.com//6.6.5//EN
TZID:Europe/London
X-WR-TIMEZONE:Europe/London
BEGIN:VEVENT
UID:239460@slaauk.org
DTSTART;TZID=Europe/London:20260613T093000
DTEND;TZID=Europe/London:20260613T103000
DTSTAMP:20260101T170445Z
URL:https://slaauk.org/events/saturday-slaa-how-step-anorexia-9-30am-meeti
 ng-amersham-2026-06-13/
SUMMARY:Amersham Saturday SLAA HOW 9.30AM In-Person Meeting
DESCRIPTION:Categories: 	\n					12 step meeting\n					Anorexia\n					Gettin
 g current\n					HOW Format\n					Mixed\n			\n	 This is an in-person meetin
 g held every Saturday at The Wheeler Room in Amersham\, Bucks. There is fr
 ee parking at the back of the church.\n\nContact: Claire on 07903 443443\n
 \nOr\nContact: James on 07885 289649\nChair /Step alternate weeks \, first
  Saturday of the month Anorexia focus  
CATEGORIES:12 step meeting,Anorexia,Getting current,HOW Format,Mixed
LOCATION:70 Sycamore Road\, Amersham\, HP6 5DR 
X-APPLE-STRUCTURED-LOCATION;VALUE=URI;X-ADDRESS=70 Sycamore Road\, Amersham
 \, Buckinghamshire\, HP6 5DR\, South East England\, United Kingdom;X-APPLE
 -RADIUS=100;X-TITLE=Wheeler Room\, St Michael and All Angels Church:geo:0,
 0
END:VEVENT
BEGIN:VTIMEZONE
TZID:Europe/London
X-LIC-LOCATION:Europe/London
BEGIN:DAYLIGHT
DTSTART:20260329T020000
TZOFFSETFROM:+0000
TZOFFSETTO:+0100
TZNAME:BST
END:DAYLIGHT
END:VTIMEZONE
END:VCALENDAR