BEGIN:VCALENDAR
VERSION:2.0
PRODID:-//wp-events-plugin.com//6.6.5//EN
TZID:Europe/London
X-WR-TIMEZONE:Europe/London
BEGIN:VEVENT
UID:251113@slaauk.org
DTSTART;TZID=Europe/London:20261202T180000
DTEND;TZID=Europe/London:20261202T190000
DTSTAMP:20260329T204217Z
URL:https://slaauk.org/events/slaa-black-heritage-how-wednesdays-6pm-soho-
 2026-12-02/
SUMMARY:SLAA Black Heritage HOW Wednesdays 6pm Soho
DESCRIPTION:Categories: 	\n					12 step meeting\n					Black Heritage\n			\n
 	 Meeting details:\n- SLAA Black Heritage\n- Every Wednesday\, 6:00–7:00
 pm\n- Soho Recovery Centre\, 123 Charing Cross Road\, London WC2H 0EW (Sma
 ll Room)\n- In-person\, H.O.W. format\n- Registration ID: 24121616\n\nCont
 act: slaablackheritage@gmail.com  [hide]Dogs are permitted at the discreti
 on of the group.[/hide]\nNearest tubes: Tottenham Court Rd (2 mins) Leices
 ter Square (6 mins)
CATEGORIES:12 step meeting,Black Heritage
LOCATION:123 Charing Cross Road\, Soho\, WC2H 0EW 
GEO:51.514944;-0.130159
X-APPLE-STRUCTURED-LOCATION;VALUE=URI;X-ADDRESS=123 Charing Cross Road\, So
 ho\, London\, WC2H 0EW\, London\, United Kingdom;X-APPLE-RADIUS=100;X-TITL
 E=Soho Recovery Centre:geo:51.514944,-0.130159
END:VEVENT
BEGIN:VTIMEZONE
TZID:Europe/London
X-LIC-LOCATION:Europe/London
BEGIN:STANDARD
DTSTART:20261025T010000
TZOFFSETFROM:+0100
TZOFFSETTO:+0000
TZNAME:GMT
END:STANDARD
END:VTIMEZONE
END:VCALENDAR