BEGIN:VCALENDAR
VERSION:2.0
PRODID:-//wp-events-plugin.com//6.6.5//EN
TZID:Europe/London
X-WR-TIMEZONE:Europe/London
BEGIN:VEVENT
UID:242201@slaauk.org
DTSTART;TZID=Europe/London:20261224T190000
DTEND;TZID=Europe/London:20261224T203000
DTSTAMP:20260101T185323Z
URL:https://slaauk.org/events/slaa-exeter-thursday-7pm-2026-12-24/
SUMMARY:SLAA Exeter Thursday 7pm
DESCRIPTION:Categories: 	\n					12 step meeting\n					12 Steps\n					Anorex
 ia\n					Building Healthy Relationships\n					Closed Meeting *\n					HOW F
 ormat\n					Mixed\n			\n	 Exeter SLAA 12 Step Meeting\nMeetings are held e
 very Thursday evening at the Palace Gate Centre in Exeter. Upon arriving a
 t the centre the meeting room will be sign posted once inside the building
 .\n\nContacts:\nJenny - 07706 445 515\nJose - 07806 675 237  
CATEGORIES:12 step meeting,12 Steps,Anorexia,Building Healthy
 Relationships,Closed Meeting *,HOW Format,Mixed
LOCATION:3 Palace Gate\, Exeter\, EX1 1JA 
GEO:50.7209819;-3.5304079
X-APPLE-STRUCTURED-LOCATION;VALUE=URI;X-ADDRESS=3 Palace Gate\, Exeter\, De
 von\, EX1 1JA\, South West England\, United Kingdom;X-APPLE-RADIUS=100;X-T
 ITLE=Palace Gate:geo:50.7209819,-3.5304079
END:VEVENT
BEGIN:VTIMEZONE
TZID:Europe/London
X-LIC-LOCATION:Europe/London
BEGIN:STANDARD
DTSTART:20261025T010000
TZOFFSETFROM:+0100
TZOFFSETTO:+0000
TZNAME:GMT
END:STANDARD
END:VTIMEZONE
END:VCALENDAR