BEGIN:VCALENDAR
VERSION:2.0
PRODID:-//wp-events-plugin.com//6.6.5//EN
TZID:Europe/London
X-WR-TIMEZONE:Europe/London
BEGIN:VEVENT
UID:241570@slaauk.org
DTSTART;TZID=Europe/Berlin:20261128T190000
DTEND;TZID=Europe/Berlin:20261128T200000
DTSTAMP:20260101T183615Z
URL:https://slaauk.org/events/slaa-how-8-00pm-thursday-berlin-germany-engl
 ish-speaking-2-2026-11-28/
SUMMARY:Saturday 7pm SLAA LGBTQ Berlin Kreuzberg (English Speaking)
DESCRIPTION:Categories: 	\n					12 step meeting\n					European English Spea
 king Meetings\n					LGBTQIA+\n			\n	 SLAA - LGBTQ English speaking meeting
  for Berlin  
CATEGORIES:12 step meeting,European English Speaking Meetings,LGBTQIA+
LOCATION:Waldemarstraße 36\, Berlin – Kreuzberg\, 10999 
X-APPLE-STRUCTURED-LOCATION;VALUE=URI;X-ADDRESS=Waldemarstraße 36\, Berlin
  – Kreuzberg\, 10999\, Europe\, Germany;X-APPLE-RADIUS=100;X-TITLE=Heile
 Haus - 3rd Floor:geo:0,0
END:VEVENT
BEGIN:VTIMEZONE
TZID:Europe/Berlin
X-LIC-LOCATION:Europe/Berlin
BEGIN:STANDARD
DTSTART:20261025T020000
TZOFFSETFROM:+0200
TZOFFSETTO:+0100
TZNAME:CET
END:STANDARD
END:VTIMEZONE
END:VCALENDAR