BEGIN:VCALENDAR
VERSION:2.0
PRODID:-//wp-events-plugin.com//6.6.5//EN
TZID:Europe/London
X-WR-TIMEZONE:Europe/London
BEGIN:VEVENT
UID:241295@slaauk.org
DTSTART;TZID=Europe/London:20260823T183000
DTEND;TZID=Europe/London:20260823T193000
DTSTAMP:20260101T183024Z
URL:https://slaauk.org/events/slaa-how-cardiff-sunday-7pm-2026-08-23/
SUMMARY:SLAA HOW Cardiff Sunday 6.30pm
DESCRIPTION:Categories: 	\n					12 step meeting\n					HOW Format\n			\n	   
CATEGORIES:12 step meeting,HOW Format
LOCATION:83 St Fagans Road\, Cardiff\, CF5 3AE 
X-APPLE-STRUCTURED-LOCATION;VALUE=URI;X-ADDRESS=83 St Fagans Road\, Cardiff
 \, CF5 3AE\, Wales\, United Kingdom;X-APPLE-RADIUS=100;X-TITLE=Fairwater P
 resbyterian Church:geo:0,0
END:VEVENT
BEGIN:VTIMEZONE
TZID:Europe/London
X-LIC-LOCATION:Europe/London
BEGIN:DAYLIGHT
DTSTART:20260329T020000
TZOFFSETFROM:+0000
TZOFFSETTO:+0100
TZNAME:BST
END:DAYLIGHT
END:VTIMEZONE
END:VCALENDAR