BEGIN:VCALENDAR
VERSION:2.0
PRODID:-//wp-events-plugin.com//6.6.5//EN
TZID:Europe/London
X-WR-TIMEZONE:Europe/London
BEGIN:VEVENT
UID:249271@slaauk.org
DTSTART;TZID=Europe/London:20260421T174500
DTEND;TZID=Europe/London:20260421T184500
DTSTAMP:20260302T225624Z
URL:https://slaauk.org/events/slaa-how-english-speaking-paris-meeting-2026
 -04-21/
SUMMARY:SLAA HOW English-speaking Paris meeting
DESCRIPTION:Categories: 	\n					12 step meeting\n					HOW Format\n					Mixe
 d\n					Newcomers\n					Open to All\n			\n	 In-person mixed English-speaki
 ng SLAA HOW meeting. Participants are encouraged to share in English but 
 sharing in French is accepted.\n\nWhat is HOW?\n\nSLAA HOW (Honesty\, Open
 -mindedness\, Willingness) was created to offer people with sex and love a
 ddiction\, who wish to use the Twelve Steps and Twelve Traditions recovery
  programme\, a structured approach and a certain level of discipline.\n\nP
 articipation in HOW is not obligatory. This meeting is open to all who ne
 ed it.\n\ncontact details: secondchance1502@gmail.com  
CATEGORIES:12 step meeting,HOW Format,Mixed,Newcomers,Open to All
LOCATION:10 Rue Sainte Elisabeth\, PARIS\, 75003 
GEO:48.86603789999999;2.3597307999999657
X-APPLE-STRUCTURED-LOCATION;VALUE=URI;X-ADDRESS=10 Rue Sainte Elisabeth\, P
 ARIS\, Île-de-France\, 75003\, Europe\, France;X-APPLE-RADIUS=100;X-TITLE
 =Sainte Elisabeth:geo:48.86603789999999,2.3597307999999657
END:VEVENT
BEGIN:VTIMEZONE
TZID:Europe/London
X-LIC-LOCATION:Europe/London
BEGIN:DAYLIGHT
DTSTART:20260329T020000
TZOFFSETFROM:+0000
TZOFFSETTO:+0100
TZNAME:BST
END:DAYLIGHT
END:VTIMEZONE
END:VCALENDAR