BEGIN:VCALENDAR
VERSION:2.0
PRODID:-//wp-events-plugin.com//6.6.5//EN
TZID:Europe/London
X-WR-TIMEZONE:Europe/London
BEGIN:VEVENT
UID:239905@slaauk.org
DTSTART;TZID=Europe/London:20261217T193000
DTEND;TZID=Europe/London:20261217T203000
DTSTAMP:20260101T171941Z
URL:https://slaauk.org/events/slaa-how-meeting-for-trans-non-binary-gender
 queer-and-gender-questioning-people-islington-thursday-at-7-30pm-2026-12-1
 7/
SUMMARY:SLAA HOW meeting for trans\, non-binary\, genderqueer and gender qu
 estioning people – Islington – Thursday at 7.30pm
DESCRIPTION:Categories: 	\n					12 step meeting\n					Chair\n					HOW Forma
 t\n					Non-Binary\n			\n	 SLAA HOW meeting for trans\, non-binary\, gende
 rqueer and gender questioning people – Islington – Thursday at 7.30pm\
 n&nbsp\;\n\nDate/Time\nThursdays from 7:30 pm - 8:30 pm\n\nLocation\n\nThe
  Community Centre at St Mary's Church\, Upper Street\, London\, N1 2TX (to
  the left of the main church building through the garden). \n\nThere is g
 round level step free access from street level to the meeting room.\n\nThe
  centre is a ten minute walk north of Angel Station (Northern Line) and fi
 fteen minute walk south of Highbury &amp\; Islington Station (Victoria\, O
 verground and National Rail lines).There is a bus stop right outside our d
 oor on Upper Street. It is served by routes 4\, 19\, 30 and 43. Bus stops 
 on Essex \n\nRoad are five minute walk from St Mary’s and are served by
  routes 38\, 56\, 73\, 341 and 476.\n\nMeeting Description\nOpen to all tr
 ans\, non-binary\, genderqueer and gender questioning people who have a de
 sire to stop living out a pattern of sex and love addiction. A safe and in
 clusive space for neurodivergent and BIPOC people.\n\nContact\n\ntransslaa
 london@gmail.com  
CATEGORIES:12 step meeting,Chair,HOW Format,Non-Binary
LOCATION:Upper Street\, Islington\, N1 2TX 
GEO:51.5383262;-0.1023930000000064
X-APPLE-STRUCTURED-LOCATION;VALUE=URI;X-ADDRESS=Upper Street\, Islington\, 
 London\, N1 2TX\, London\, United Kingdom;X-APPLE-RADIUS=100;X-TITLE=St Ma
 ry's Church\, Islington:geo:51.5383262,-0.1023930000000064
END:VEVENT
BEGIN:VTIMEZONE
TZID:Europe/London
X-LIC-LOCATION:Europe/London
BEGIN:STANDARD
DTSTART:20261025T010000
TZOFFSETFROM:+0100
TZOFFSETTO:+0000
TZNAME:GMT
END:STANDARD
END:VTIMEZONE
END:VCALENDAR