BEGIN:VCALENDAR
VERSION:2.0
PRODID:-//wp-events-plugin.com//6.6.5//EN
TZID:Europe/London
X-WR-TIMEZONE:Europe/London
BEGIN:VEVENT
UID:242586@slaauk.org
DTSTART;TZID=Europe/London:20260702T193000
DTEND;TZID=Europe/London:20260702T203000
DTSTAMP:20260101T190643Z
URL:https://slaauk.org/events/slaa-how-stevenage-thursday-7-30pm-2026-07-0
 2/
SUMMARY:Stevenage First Thursday Only 7.30pm - 8.30pm  SLAA HOW Meeting Ope
 n/Face to Face
DESCRIPTION:Categories: 	\n					12 step meeting\n					Anorexia\n					Chair\
 n					HOW Format\n					Mixed\n					Open Meeting\n					Step\n					Topic\n		
 	\n	 Stevenage First and Third Thursday of every month meeting 7.30pm 
 – 8.30 pm SLAA HOW.\n\nThis is an Open/Face to Face only meeting.\nMeeti
 ngs take place in the Coffee Shop (right hand end of building). If the mai
 n doors to the community centre are locked\, entrance can be obtained thro
 ugh the coffee shop doors.\nPlease bring your own liquid refreshment. If y
 ou are a newcomer or an old timer you are all more than welcome.\nPlease s
 upport… our numbers are low (2-4) so there is plenty of time for sharing
 !  
CATEGORIES:12 step meeting,Anorexia,Chair,HOW Format,Mixed,Open
 Meeting,Step,Topic
LOCATION:Hampson Park Webb Rise\, Stevenage\, SG1 5QU 
GEO:51.91501;-0.188592
X-APPLE-STRUCTURED-LOCATION;VALUE=URI;X-ADDRESS=Hampson Park Webb Rise\, St
 evenage\, Hertfordshire\, SG1 5QU\, East England\, United Kingdom;X-APPLE-
 RADIUS=100;X-TITLE=Hampson Park Community Centre:geo:51.91501,-0.188592
END:VEVENT
BEGIN:VTIMEZONE
TZID:Europe/London
X-LIC-LOCATION:Europe/London
BEGIN:DAYLIGHT
DTSTART:20260329T020000
TZOFFSETFROM:+0000
TZOFFSETTO:+0100
TZNAME:BST
END:DAYLIGHT
END:VTIMEZONE
END:VCALENDAR