BEGIN:VCALENDAR
VERSION:2.0
PRODID:-//wp-events-plugin.com//6.6.5//EN
TZID:Europe/London
X-WR-TIMEZONE:Europe/London
BEGIN:VEVENT
UID:249165@slaauk.org
DTSTART;TZID=Europe/London:20260721T191500
DTEND;TZID=Europe/London:20260721T203000
DTSTAMP:20260131T222730Z
URL:https://slaauk.org/events/slaa-tuesday-meeting-leeds-2026-07-21/
SUMMARY:SLAA Tuesday Meeting (Leeds)
DESCRIPTION:Categories: 	\n					12 step meeting\n			\n	 Meeting Themes:\n\n
 1st Tuesday of the month - Step meeting. Pass around a reading from the ba
 sic text for the step correlating to that month i.e January read step 1\, 
 February read step 2 and so on…\n\n2nd Tuesday of the month - Meditation
  meeting. Pass around a reading from the State of Grace Daily Meditation b
 ook\, followed by a short meditation on the reading.\n\n3rd Tuesday of the
  month - Tradition Meeting. Pass around a reading from AA 12 &amp\; 12 boo
 k for the tradition correlating to that month i.e January read tradition 1
 \, February read tradition 2 and so on…\n\n4th Tuesday of the month - An
 orexia Meeting. Pass around a reading from the anorexia collection of lite
 rature.\n\n5th Tuesday of the month - For months with 5 Tuesdays - Chair m
 eeting. A guest speaker who has completed the SLAA 12 step program is invi
 ted to share their experience of working the program for an extended 20 mi
 n share… either in person or via call.  
CATEGORIES:12 step meeting
LOCATION:188 Woodhouse Ln\, Woodhouse\, Leeds\, LS2 9DX 
X-APPLE-STRUCTURED-LOCATION;VALUE=URI;X-ADDRESS=188 Woodhouse Ln\, Woodhous
 e\, Leeds\, West Yorkshire\, LS2 9DX\, Northern England\, United Kingdom;X
 -APPLE-RADIUS=100;X-TITLE=Quaker Meeting House:geo:0,0
END:VEVENT
BEGIN:VTIMEZONE
TZID:Europe/London
X-LIC-LOCATION:Europe/London
BEGIN:DAYLIGHT
DTSTART:20260329T020000
TZOFFSETFROM:+0000
TZOFFSETTO:+0100
TZNAME:BST
END:DAYLIGHT
END:VTIMEZONE
END:VCALENDAR