BEGIN:VCALENDAR
VERSION:2.0
PRODID:-//wp-events-plugin.com//6.6.5//EN
TZID:Europe/London
X-WR-TIMEZONE:Europe/London
BEGIN:VEVENT
UID:251285@slaauk.org
DTSTART;TZID=Europe/London:20170218T100000
DTEND;TZID=Europe/London:20170219T180000
DTSTAMP:20260329T214605Z
URL:https://slaauk.org/events/slaa-uk-convention-2017/
SUMMARY:SLAA UK CONVENTION 2017
DESCRIPTION:Categories: 	\n					Convention\n			\n	 'From newcomer to Step 1
 2 and beyond'\nSaturday 18th (10am - 6pm) and Sunday 19th (12pm - 6pm) Feb
 ruary 2017.\n\nSee Recordings and Handouts from the convention\n\nNearest 
 tube stations: Latimer Road and Ladbroke Grove.\n\n\nClick “Download” 
 below for SLAA Convention 2017 Programme\n– (printout for GSR’s\,Grou
 ps and Fellows)\n[ddownload id="103660"]\n\n\n\nTickets:\n\n 	\nSORRY SOLD
  OUT\nconvention@slaauk.org.\n\n\n\n If you are interested in doing servi
 ce at the convention or on the convention committee\, please email convent
 ion@slaauk.org or join the committee meetings which will be leading up to 
 the convention.\n\n\nclick here for more information about convention 2017
  \n\nmore info about the convention committee and types of service can be
  found here  
CATEGORIES:Convention
LOCATION:1 Silchester Rd\, North Kensington\, W10 6EX 
GEO:51.5145831;-0.21551450000004024
X-APPLE-STRUCTURED-LOCATION;VALUE=URI;X-ADDRESS=1 Silchester Rd\, North Ken
 sington\, London\, W10 6EX\, London\, United Kingdom;X-APPLE-RADIUS=100;X-
 TITLE=Kensington Aldridge Academy:geo:51.5145831,-0.21551450000004024
END:VEVENT
BEGIN:VTIMEZONE
TZID:Europe/London
X-LIC-LOCATION:Europe/London
BEGIN:STANDARD
DTSTART:20161030T010000
TZOFFSETFROM:+0100
TZOFFSETTO:+0000
TZNAME:GMT
END:STANDARD
END:VTIMEZONE
END:VCALENDAR