BEGIN:VCALENDAR
VERSION:2.0
PRODID:-//wp-events-plugin.com//6.6.5//EN
TZID:Europe/London
X-WR-TIMEZONE:Europe/London
BEGIN:VEVENT
UID:251287@slaauk.org
DTSTART;TZID=Europe/London:20200104T100000
DTEND;TZID=Europe/London:20200105T180000
DTSTAMP:20260329T215228Z
URL:https://slaauk.org/events/slaa-uk-convention-2020/
SUMMARY:SLAA UK CONVENTION 2020
DESCRIPTION:Categories: 	\n					Convention\n			\n	 [maxbutton name="Talks a
 nd Shares Recordings 2020"]\n\nSaturday 4 January: 10am to 6pm (doors open
  9.15am)\n\nSunday 5 January: 12pm to 6pm (doors open 11.30am)\n\n[ddownlo
 ad id="143516" text="Download Convention Schedule"]\n\n[ddownload id="1435
 10" text="Download A4 B&amp\;W Poster"] [ddownload id="143513" text="Downl
 oad A5 Colour Poster"]\nJoin us for a weekend of recovery\, connection and
  fellowship featuring international and UK guest speakers\, workshops and 
 meetings that cover all aspects of recovery from sex and love addiction an
 d anorexia. There is also an in-house cafe and break-out spaces\, providin
 g the opportunity for connection and fellowship.\nOur keynote speaker is R
 ita H\, who is coming from Montreal to share her SLAA experience\, strengt
 h and hope on ‘The Courage to Change’. As well as having been in SLAA 
 for 19 years\, she also has 25 years’ AA recovery. She has held several 
 service posts (including as delegate for Montreal Intergroup)\, has been o
 n many Conference Committees and Board of Trustees\, and sponsors fellows 
 across North America.\nOur second speaker is Adrianna\, “a sex and love 
 addict who has been around a long time\, one day at a time.” She will be
  sharing on ‘Spirituality and the Language of 12-Step Recovery’.\nThis
  year in addition to great topic meetings we will also be running a number
  of workshops led by experienced fellows to help you deepen your journey o
 f recovery and ‘The Courage to Change’. The workshops are as follows:-
 \n\nAnorexia Meeting followed by Workshop\nStep 4 Meeting followed by Work
 shop\nSteps 8-9 Meeting followed by Workshop\n\nDo bring along your own pe
 ns and notebooks as we encourage you to work together in a community of fe
 llows.\n\nTickets\n\n£15 in advance (plus 40p booking fee) \n\n£20 on th
 e door (if available\, cash only)\n\nGetting there by public transport\n\n
 Nearest tube station: Camden Town \nNearest Overground station: Camden Roa
 d\nNearest bus stops: 274\, C2 \n\nGetting there by car\n\nVery limited on
 site parking for special access needs only (email convention@slaauk.org to
  reserve). Free on-street parking nearby. \n\nAccess\n\nStep-free access t
 o all floors. Visit www.cecilsharphouse.org for more details.\n\nFood and 
 drink\n\nAn excellent onsite café offers meals\, light bites and drinks a
 ll day:\n\n 	Coffees\, teas\, herbal teas\, soft drinks and pastries\n 	Ho
 memade vegetarian or vegan soup with crusty granary bread\n 	A range of s
 andwiches\n 	Three-cheese tarts &amp\; homemade sausage rolls\n 	Beef or t
 omato &amp\; mozzarella empanadas \n 	Roasted vegetable &amp\; quinoa frit
 tata \n 	Baked potatoes with cheese\, tuna\, chilli or beans\n 	Chilli c
 on carne with tortilla chips and sour cream\n 	Homemade cakes\, brownies\,
  scones and muffins\n\nNote: this is a guide only - as we haven’t been g
 iven the menu yet and won’t receive it till closer to the convention.\n\
 nCecil Sharp House no longer provide plastic cups for the water dispenser 
 so please bring your own water bottles.\n\nCamden Town is a short walk awa
 y\, with a range of other cafés\, shops and takeaways.\n\n\nIf you are in
 terested in doing service at the convention or on the convention committee
 \, please email convention@slaauk.org or join the committee meetings which
  will be leading up to the convention.\nmore info about the convention com
 mittee and types of service can be found here  
CATEGORIES:Convention
LOCATION:2 Regents Park Rd\, Camden\, NW1 7AY 
GEO:51.538155;-0.149306
X-APPLE-STRUCTURED-LOCATION;VALUE=URI;X-ADDRESS=2 Regents Park Rd\, Camden\
 , London\, NW1 7AY\, London\, United Kingdom;X-APPLE-RADIUS=100;X-TITLE=Ce
 cil Sharp House:geo:51.538155,-0.149306
END:VEVENT
BEGIN:VTIMEZONE
TZID:Europe/London
X-LIC-LOCATION:Europe/London
BEGIN:STANDARD
DTSTART:20191027T010000
TZOFFSETFROM:+0100
TZOFFSETTO:+0000
TZNAME:GMT
END:STANDARD
END:VTIMEZONE
END:VCALENDAR