BEGIN:VCALENDAR
VERSION:2.0
PRODID:-//wp-events-plugin.com//6.6.5//EN
TZID:Europe/London
X-WR-TIMEZONE:Europe/London
BEGIN:VEVENT
UID:251288@slaauk.org
DTSTART;TZID=Europe/London;VALUE=DATE:20230729
DTEND;TZID=Europe/London;VALUE=DATE:20230731
DTSTAMP:20260329T215129Z
URL:https://slaauk.org/events/slaa-uk-convention-2023/
SUMMARY:SLAA UK CONVENTION 2023
DESCRIPTION:Categories: 	\n					Convention\n			\n	 Saturday 29th July 9:15a
 m (doors open) to 6pm (Fellowship til 10pm)\nSunday 30th July 9:15am (door
 s open) to 6pm\n[maxbutton name="Talks and Shares Recordings 2023"]\n\n[ma
 xbutton id="4" text="Convention FAQs" url="https://slaauk.org/conventions/
 convention-faqs/"]\n\nDownload a Flyer for the convention\n\n\n\nThe sched
 ule is now online (subject to changes).\n\nClick for larger file to downlo
 ad\n\n\n\n\n\nWe are looking for Speakers\, especially those from a divers
 e background\, to be on the panel in the following list of discussion topi
 cs and workshops at the conversation. If any of these subjects appeal and 
 you have completed all 12 Steps in SLAA please email Darren convention@sl
 aauk.org with your interest and if the slots are still available he will 
 do his best to add you to them. There are a couple of slots that are yet t
 o have topics. If you have an idea of a topic that would benefit other fel
 lows please do let us know.\nService Positions available:\nThere are oppor
 tunities to volunteer at the convention. Positions available are: meeting 
 secretaries\, ticket collectors\, room greeters\, ushers\, and literature 
 sellers and Tradition 7 collectors. Please email Darren convention@slaauk.
 org if you are interested in a service position.\n\nDownload a poster for 
 the Convention\n\n  
CATEGORIES:Convention
LOCATION:2 Regents Park Rd\, Camden\, NW1 7AY 
GEO:51.538155;-0.149306
X-APPLE-STRUCTURED-LOCATION;VALUE=URI;X-ADDRESS=2 Regents Park Rd\, Camden\
 , London\, NW1 7AY\, London\, United Kingdom;X-APPLE-RADIUS=100;X-TITLE=Ce
 cil Sharp House:geo:51.538155,-0.149306
END:VEVENT
BEGIN:VTIMEZONE
TZID:Europe/London
X-LIC-LOCATION:Europe/London
BEGIN:DAYLIGHT
DTSTART:20230326T020000
TZOFFSETFROM:+0000
TZOFFSETTO:+0100
TZNAME:BST
END:DAYLIGHT
END:VTIMEZONE
END:VCALENDAR