BEGIN:VCALENDAR
VERSION:2.0
PRODID:-//wp-events-plugin.com//6.6.5//EN
TZID:Europe/London
X-WR-TIMEZONE:Europe/London
BEGIN:VEVENT
UID:251289@slaauk.org
DTSTART;TZID=Europe/London;VALUE=DATE:20240907
DTEND;TZID=Europe/London;VALUE=DATE:20240909
DTSTAMP:20260329T215034Z
URL:https://slaauk.org/events/slaa-uk-convention-2024/
SUMMARY:SLAA UK CONVENTION 2024
DESCRIPTION:Categories: 	\n					Convention\n			\n	 Saturday 7th Setpember 9
 :15am (doors open) to 6pm (Fellowship til 10pm)\nSunday 8th September 9:15
 am (doors open) to 6pm\n[maxbutton id="4" text="Convention FAQs" url="http
 s://slaauk.org/conventions/convention-faqs/"]\n\nDownload a Flyer for the 
 convention\n\n\n\nWhat to Expect at the Convention:\n\nWelcome to the SLAA
  UK Convention\, a 2 day programme designed to support your journey to rec
 overy. Here’s what you can look forward to:\n\n 	Experience\, strength\,
  and hope: Hear personal stories of recovery and gain insights from experi
 enced members.\n 	Engaging Workshops: Participate in sessions that delve i
 nto various aspects of sex and love addiction\, offering practical tools.\
 n 	Supportive Community: Connect with fellow members in a non-judgmental e
 nvironment that fosters healing and growth.\n 	Literature: Access a wide r
 ange of SLAA literature to deepen your understanding and support your reco
 very.\n\nWhether you're new to SLAA or well along your path\, the conventi
 on offers a unique opportunity to gain valuable insights\, connect with ot
 hers\, and strengthen your commitment to recovery. Together\, we can break
  the cycle of addiction\, reduce stigma\, and promote healing and empowerm
 ent. Join us and take the next step on your journey to self-discovery and 
 recovery.\n\n[maxbutton id="10" text="Convention 2024 programme" url="http
 s://slaauk.org/convention2024programme" linktitle="Convention 2024 program
 me" window="new"]\n\nAny questions\, email convention@slaauk.org.  
CATEGORIES:Convention
LOCATION:2 Regents Park Rd\, Camden\, NW1 7AY 
GEO:51.538155;-0.149306
X-APPLE-STRUCTURED-LOCATION;VALUE=URI;X-ADDRESS=2 Regents Park Rd\, Camden\
 , London\, NW1 7AY\, London\, United Kingdom;X-APPLE-RADIUS=100;X-TITLE=Ce
 cil Sharp House:geo:51.538155,-0.149306
END:VEVENT
BEGIN:VTIMEZONE
TZID:Europe/London
X-LIC-LOCATION:Europe/London
BEGIN:DAYLIGHT
DTSTART:20240331T020000
TZOFFSETFROM:+0000
TZOFFSETTO:+0100
TZNAME:BST
END:DAYLIGHT
END:VTIMEZONE
END:VCALENDAR