BEGIN:VCALENDAR
VERSION:2.0
PRODID:-//wp-events-plugin.com//6.6.5//EN
TZID:Europe/London
X-WR-TIMEZONE:Europe/London
BEGIN:VEVENT
UID:251299@slaauk.org
DTSTART;TZID=Europe/London;VALUE=DATE:20250906
DTEND;TZID=Europe/London;VALUE=DATE:20250908
DTSTAMP:20260329T220459Z
URL:https://slaauk.org/events/slaa-uk-convention-2025/
SUMMARY:SLAA UK CONVENTION 2025
DESCRIPTION:Categories: 	\n					Convention\n			\n	 Saturday 6th September 9
 :15am (doors open) to 6pm (Fellowship til 10pm)\nSunday 7th September 9:15
 am (doors open) to 6pm\nNote: there’s planned industrial action on the T
 ube on Sunday 7th which won’t affect buses\, Overground\, Elizabeth Line
  or National Rail services. See TFL website. You’ll probably want to pla
 n your journey differently on Sunday from Saturday.\n\n[maxbutton id="4" t
 ext="Convention FAQs" url="https://slaauk.org/conventions/convention-faqs/
 "]\n\n[maxbutton id="8"  url="https://slaauk.org/product/2025-convention-
 ticket/" text="Convention Ticket 2025"]\n\nDownload a Flyer for the conven
 tion (click to open pdf in new tab)\n\n\n\nJoin us for two days of speaker
 s\, workshops\, discussions and deep understanding\n\n 	Dive into transfor
 mation\n 	Unpack the complexities of addiction\, relationships and intimac
 y in a supportive and non-judgemental space\n 	Gain practical tools and th
 erapeutic insights for personal growth\n 	Break the cycle and embrace heal
 ing\n\nThe theme of this year’s convention is “The more you give\, the
  more you shall receive”\n\n\n\nIt will be two days of speakers\, worksh
 ops\, discussions and deep understanding and evening fellowship. The highl
 ights are:\n\n 	All the steps are covered through the topics\n 	Workshops 
 on topics including online dating\, dating plan\, prayer and meditation\, 
 outreach\n 	Key note speakers on both days before lunch in the main hall\n
  	Meeting format in the main hall including topics such as Loving myself\,
  Inner child\, Traditions and Honesty\n 	Service sessions on sponsorship\,
  being a GSR\, and being a secretary\n\nOn Saturday evening there will be 
 fellowship on site sharing music\, short stories\, readings etc. We call t
 his the SLAAbaret.\n\nIf you are able to give service over the weekend or 
 put yourself down for the open mic then please let us have your details vi
 a this link https://forms.gle/BpHPQmsW9Mu2RfCF7\n\nIf you have any questio
 ns\, email conventioncommittee@slaauk.org  
CATEGORIES:Convention
LOCATION:2 Regents Park Rd\, Camden\, NW1 7AY 
GEO:51.538155;-0.149306
X-APPLE-STRUCTURED-LOCATION;VALUE=URI;X-ADDRESS=2 Regents Park Rd\, Camden\
 , London\, NW1 7AY\, London\, United Kingdom;X-APPLE-RADIUS=100;X-TITLE=Ce
 cil Sharp House:geo:51.538155,-0.149306
END:VEVENT
BEGIN:VTIMEZONE
TZID:Europe/London
X-LIC-LOCATION:Europe/London
BEGIN:DAYLIGHT
DTSTART:20250330T020000
TZOFFSETFROM:+0000
TZOFFSETTO:+0100
TZNAME:BST
END:DAYLIGHT
END:VTIMEZONE
END:VCALENDAR