BEGIN:VCALENDAR
VERSION:2.0
PRODID:-//wp-events-plugin.com//6.6.5//EN
TZID:Europe/London
X-WR-TIMEZONE:Europe/London
BEGIN:VEVENT
UID:240868@slaauk.org
DTSTART;TZID=Europe/London:20260621T180000
DTEND;TZID=Europe/London:20260621T190000
DTSTAMP:20260101T182012Z
URL:https://slaauk.org/events/sunday-1805-english-speaking-meeting-reykjav
 ik-iceland-2026-06-21/
SUMMARY:Sunday 18:00 English Speaking meeting\, Reykjavik\, Iceland
DESCRIPTION:Categories: 	\n					12 step meeting\n					Basic Text Study\n			
 		Closed Meeting *\n					European English Speaking Meetings\n					Mixed\n	
 		\n	 English-Speaking Meeting \n \nSLAA Book Study\, Mixed\, Closed\n\n
 The meeting is in the yellow house (AA house) in Room C upstairs to the le
 ft. All are welcome!\n\nInfo / helpline: slaa.island@gmail.com +354 698 87
 02  
CATEGORIES:12 step meeting,Basic Text Study,Closed Meeting *,European
 English Speaking Meetings,Mixed
LOCATION:Tjarnargata 20\, Reykjavik\, 101 
X-APPLE-STRUCTURED-LOCATION;VALUE=URI;X-ADDRESS=Tjarnargata 20\, Reykjavik\
 , 101\, Europe\, Iceland;X-APPLE-RADIUS=100;X-TITLE=AA House:geo:0,0
END:VEVENT
BEGIN:VTIMEZONE
TZID:Europe/London
X-LIC-LOCATION:Europe/London
BEGIN:DAYLIGHT
DTSTART:20260329T020000
TZOFFSETFROM:+0000
TZOFFSETTO:+0100
TZNAME:BST
END:DAYLIGHT
END:VTIMEZONE
END:VCALENDAR