BEGIN:VCALENDAR
VERSION:2.0
PRODID:-//wp-events-plugin.com//6.6.5//EN
TZID:Europe/London
X-WR-TIMEZONE:Europe/London
BEGIN:VEVENT
UID:241987@slaauk.org
DTSTART;TZID=Europe/London:20261119T190000
DTEND;TZID=Europe/London:20261119T200000
DTSTAMP:20260101T184711Z
URL:https://slaauk.org/events/thursday-7pm-gmt-slaa-12-x-12-for-healthy-re
 lationships-online-meeting-zoom-2026-11-19/
SUMMARY:Thursday 7pm UK time SLAA 12 x 12 for Healthy Relationships Online 
 Meeting (Zoom)
DESCRIPTION:Categories: 	\n					12 step meeting\n					12 Steps\n					12 Tra
 ditions\n					Basic Text Study\n					Building Healthy Relationships\n					
 Dating Again and Relationships in Recovery\n					Healthy Dating\n					Rela
 tionship Focus\n					Towards Healthy Love and Relationships\n					Zoom 12 
 Step Meeting\n			\n	 SLAA 12 x 12 for Healthy Relationships\n\nWeekly meet
 ing on Thursday @ 7pm UK time for 1 hr with a rotating format:\n\nWeek 1: 
 Read Step from SLAA Basic Text\n\nWeek 2: Read Traditions as a Guide to He
 althy Relationships (Al-Anon)\n\nWeek 3: Read Step from AA 12 x 12\n\nWeek
  4: SLAA Reading on Partnership\n\nWeek 5: SLAA Reading on Anorexia\n\nRea
 dings will last for 15mins to allow for sharing.\n\nThe first meeting will
  be this Thursday 29th October and continue every week from then on. All a
 re welcome.\n\nJoin Zoom Meeting\n\nhttps://us02web.zoom.us/j/83964334028\
 nMeeting ID: 839 6433 4028  
CATEGORIES:12 step meeting,12 Steps,12 Traditions,Basic Text
 Study,Building Healthy Relationships,Dating Again and Relationships in
 Recovery,Healthy Dating,Relationship Focus,Towards Healthy Love and
 Relationships,Zoom 12 Step Meeting
END:VEVENT
BEGIN:VTIMEZONE
TZID:Europe/London
X-LIC-LOCATION:Europe/London
BEGIN:STANDARD
DTSTART:20261025T010000
TZOFFSETFROM:+0100
TZOFFSETTO:+0000
TZNAME:GMT
END:STANDARD
END:VTIMEZONE
END:VCALENDAR