BEGIN:VCALENDAR
VERSION:2.0
PRODID:-//wp-events-plugin.com//6.6.5//EN
TZID:Europe/London
X-WR-TIMEZONE:Europe/London
BEGIN:VEVENT
UID:241803@slaauk.org
DTSTART;TZID=Europe/London:20260521T190000
DTEND;TZID=Europe/London:20260521T204500
DTSTAMP:20260101T184205Z
URL:https://slaauk.org/events/thursday-7pm-recovery-love-live-in-liverpool
 -2026-05-21/
SUMMARY:Thursday 7pm Recovery Love Live in Liverpool
DESCRIPTION:Categories: 	\n					12 step meeting\n					Mixed\n			\n	 Female 
 Contact Person: 07860 931380\n\nMale Contact Person: 07519679908 Daniel\n\
 nTrain: Liverpool Central\n\nAddress:\nAssessment Room Ground Floor\n17 Ro
 dney Street Liverpool UK  
CATEGORIES:12 step meeting,Mixed
LOCATION:17 Rodney Street\, Liverpool\,  L1 9EF 
X-APPLE-STRUCTURED-LOCATION;VALUE=URI;X-ADDRESS=17 Rodney Street\, Liverpoo
 l\, Merseyside\,  L1 9EF\, Northern England\, United Kingdom;X-APPLE-RADIU
 S=100;X-TITLE=Community Recovery Liverpool:geo:0,0
END:VEVENT
BEGIN:VTIMEZONE
TZID:Europe/London
X-LIC-LOCATION:Europe/London
BEGIN:DAYLIGHT
DTSTART:20260329T020000
TZOFFSETFROM:+0000
TZOFFSETTO:+0100
TZNAME:BST
END:DAYLIGHT
END:VTIMEZONE
END:VCALENDAR