BEGIN:VCALENDAR
VERSION:2.0
PRODID:-//wp-events-plugin.com//6.6.5//EN
TZID:Europe/London
X-WR-TIMEZONE:Europe/London
BEGIN:VEVENT
UID:242561@slaauk.org
DTSTART;TZID=Europe/London:20260825T193000
DTEND;TZID=Europe/London:20260825T203000
DTSTAMP:20260101T190523Z
URL:https://slaauk.org/events/tuesday-7-30pm-watford-meeting-2026-08-25/
SUMMARY:Tuesday 7.30PM Watford meeting
DESCRIPTION:Categories: 	\n					12 step meeting\n					Chair\n					HOW Forma
 t\n					Mixed\n					Step\n			\n	 The Tuesday Evening SLAA HOW meeting at 7
 .30pm is in person in Watford\n[hide]\nhas now moved online to Zoom:\nJoin
  Zoom Meeting\nhttps://zoom.us/j/87360985033?pwd=N09xNUErYi9sUXBlZ0pudFR0S
 2ZRQT09\nMeeting ID: 873 6098 5033\nPassword: Grateful\n[/hide]Room is on 
 the 1st floor at the top of the stairs to the right.\nThe first meeting of
  every month is Anorexia focus  
CATEGORIES:12 step meeting,Chair,HOW Format,Mixed,Step
LOCATION:Langley Way\, Watford\, WD17 3EG 
X-APPLE-STRUCTURED-LOCATION;VALUE=URI;X-ADDRESS=Langley Way\, Watford\, Her
 tfordshire\, WD17 3EG\, East England\, United Kingdom;X-APPLE-RADIUS=100;X
 -TITLE=St Luke's Church:geo:0,0
END:VEVENT
BEGIN:VTIMEZONE
TZID:Europe/London
X-LIC-LOCATION:Europe/London
BEGIN:DAYLIGHT
DTSTART:20260329T020000
TZOFFSETFROM:+0000
TZOFFSETTO:+0100
TZNAME:BST
END:DAYLIGHT
END:VTIMEZONE
END:VCALENDAR