BEGIN:VCALENDAR
VERSION:2.0
PRODID:-//wp-events-plugin.com//6.6.5//EN
TZID:Europe/London
X-WR-TIMEZONE:Europe/London
BEGIN:VEVENT
UID:248474@slaauk.org
DTSTART;TZID=Europe/London:20261129T180000
DTEND;TZID=Europe/London:20261129T190000
DTSTAMP:20260103T222214Z
URL:https://slaauk.org/events/we-recover-together-in-slaa-600pm-uk-time-ev
 ery-day-2026-11-29/
SUMMARY:We Recover Together in SLAA 6:00pm - 7pm UK Time Every Day
DESCRIPTION:Categories: No Categories We Recover Together in SLAA\n\n« In
 ternational « Daily « Recovery «\n\n 	To join\, click the direct 
 link here\n 	Or Please email the word “WRTPass” to werecovertogether
 inslaa@gmail.com if you would like log-in details.\n 	Our meetings are 6
 0 minutes long.\n 	We focus on the 12-Step solution. We encourage oursel
 ves and others to remain on the 12-Step pathway\, we teach and learn this 
 way of living\, and have found that our unsolvable problems sort themselve
 s out\, over the course of time.\n 	We offer sponsorship after every mee
 ting\, via breakout rooms.\n 	We work the ‘SLAA Awakening’ 12-Step Pro
 gram\, which has been found to produce rapid\, effective changes in those 
 who work it to the best of their ability.\n 	Welcome to our meetings – 
 a deep and effective solution to the many problems caused by sex and love 
 addiction. Our community is a warm and courageous space for all addicts lo
 oking for a new way of life.\n\nMonday – Newcomers\n\nMany useful readin
 gs for Newcomers\, and those who are returning to recovery.\nTuesday – R
 ecovery from Anorexia \n\nAnorexia Steps\, a challenging and successful r
 ecovery environment.\n\n\nWednesday – AA Big Book Study\n\nWe study the 
 first ever 12-Step book to be written\, and learn from the original recove
 ry community.\n\n\nThursday –  ‘State of Grace’ SLAA Daily Reading\
 n\nEach week we read the SLAA daily reading.\n\n\nFriday - The Withdrawal 
 Experience:\n\nWe offer Support and Recovery in this Valuable and Challeng
 ing time\, through readings\, shares and open sharing afterwards. Topics s
 uch as Dealing with Fear\, Fantasy Vs Reality\, and Healthy Boundaries.\n\
 n\nSaturday - Step One to Twelve:\n\nReading a Step each week from the mos
 t recent SLAA Draft copy of ‘A Framework for Living’ to aid our recove
 ry. \n\n\nSunday - Relationships in Recovery:\n\nReading each week on the
 mes like Sober Sex\, Healthy Boundaries\, Fear Vs Reality\, Sober Dating\,
  Dealing with Fears\, Building Partnerships etc.\n\n&nbsp\;\n\nPlease Note
 : This is a video on meeting\, so please ensure that you are visible duri
 ng the meeting with appropriate lighting and clothing. If you need to mo
 ve around that's not a problem at our meeting\, but please keep video on. 
 If you need to leave your screen for a few minutes that's fine. If you ha
 ve medical or childcare reasons for needing your video off then please let
  our camera helper know when you arrive at the meeting. Thank you in adva
 nce for your understanding.\n\nWe look forward to meeting you on the road 
 to recovery.  
END:VEVENT
BEGIN:VTIMEZONE
TZID:Europe/London
X-LIC-LOCATION:Europe/London
BEGIN:STANDARD
DTSTART:20261025T010000
TZOFFSETFROM:+0100
TZOFFSETTO:+0000
TZNAME:GMT
END:STANDARD
END:VTIMEZONE
END:VCALENDAR