BEGIN:VCALENDAR
VERSION:2.0
PRODID:-//wp-events-plugin.com//6.6.5//EN
TZID:Europe/London
X-WR-TIMEZONE:Europe/London
BEGIN:VEVENT
UID:251447@slaauk.org
DTSTART;TZID=Europe/London:20261209T193000
DTEND;TZID=Europe/London:20261209T204500
DTSTAMP:20260331T054506Z
URL:https://slaauk.org/events/wednesday-7-30pm-east-croydon-going-online-o
 nly-in-april-2026-12-09/
SUMMARY:Wednesday 7.30PM East Croydon Online Group
DESCRIPTION:Categories: 	\n					12 step meeting\n					Chair\n					HOW Forma
 t\n					Mixed\n					Step\n					Top Lines\n					Topic\n					Zoom 12 Step Me
 eting\n			\n	 Please note that the East Croydon Canning Road meeting is no
 w online only and no longer runs as a hybrid meeting.\n\nThis is a CLOSED 
 meeting. This means the meeting is open to anyone who feels they may have 
 this problem and is closed to outsiders or those who are merely curious.\n
 \nThe meeting will stop accepting participants at a specific point in the 
 script\, typically between 7:45pm and 7:50pm.\n\nDay &amp\; Time:\nEvery W
 ednesday\, 7:30pm – 8:50pm\n\nJoin Zoom Meeting:\nhttps://us06web.zoom.u
 s/j/83693742598?pwd=doia9oWNIntz6asnpT9vCZsHCbhSfW.1\n\nMeeting ID: 836 93
 74 2598\nPasscode: Wed\n\nThis is a CAMERA ON meeting (participants are re
 quired to keep their camera on throughout the meeting).\n\nAlternates betw
 een: Anorexia\, Chair\, Step\, Topic\, Top Line\n\nWe look forward to seei
 ng you online.\n\n[hide] PayPal link for Tradition 7 is\n\nhttps://paypal.
 me.sammyfellowship\n\n[/hide]  
CATEGORIES:12 step meeting,Chair,HOW Format,Mixed,Step,Top
 Lines,Topic,Zoom 12 Step Meeting
END:VEVENT
BEGIN:VTIMEZONE
TZID:Europe/London
X-LIC-LOCATION:Europe/London
BEGIN:STANDARD
DTSTART:20261025T010000
TZOFFSETFROM:+0100
TZOFFSETTO:+0000
TZNAME:GMT
END:STANDARD
END:VTIMEZONE
END:VCALENDAR